BEGIN:VCALENDAR
VERSION:2.0
PRODID:-//swoogo.com//NONSGML kigkonsult.se iCalcreator 2.41.90//
CALSCALE:GREGORIAN
UID:38373232-6636-4331-a333-613861653964
BEGIN:VEVENT
UID:941009b8b1612938b297eb50986c47c41a8fa0b2@swoogo.com
DTSTAMP:20260421T090055Z
DESCRIPTION:You are confirmed for AVEVA World (November 14-17\, 2022). We w
 ill email you more information closer to the event. In the meantime\, plea
 se visit our event website [https://events.aveva.com/ceraweek2023/1648682]
  for the latest updates.\n\n 
DTSTART:20230306T140000Z
DTEND:20230311T053000Z
LAST-MODIFIED:20260421T090055Z
LOCATION:Moscone West Convention Center\, 800 Howard St.\, San Francisco\, 
 CA 94103\, United States
SEQUENCE:0
STATUS:CONFIRMED
SUMMARY:CERAWeek 2023
TRANSP:OPAQUE
X-ALT-DESC;FMTTYPE=text/html:<p>You are confirmed for AVEVA World (November
  14-17\, 2022). We will email you more information closer to the event. In
  the meantime\, please visit our <a href='https://events.aveva.com/cerawee
 k2023/1648682' target='_blank' rel='noreferrer noopener'>event website</a>
  for the latest updates.</p>\n\n<p> </p>
BEGIN:VALARM
UID:32326330-3730-4263-a237-326463373666
ACTION:DISPLAY
DESCRIPTION:You are confirmed for AVEVA World (November 14-17\, 2022). We w
 ill email you more information closer to the event. In the meantime\, plea
 se visit our event website [https://events.aveva.com/ceraweek2023/1648682]
  for the latest updates.\n\n 
TRIGGER:-P1D
END:VALARM
END:VEVENT
END:VCALENDAR
